BEGIN:VCALENDAR
PRODID:-//hacksw/handcal//NONSGML v1.0//EN
VERSION:2.0
METHOD:PUBLISH
BEGIN:VEVENT
DTSTART:20250514T153000Z
DTEND:20250514T173000Z
LOCATION:Bacari Grill (800 Ridgewood Rd; Township of Washington, NJ  07676
UID:2645920250514T153000ZNOT ONLY What's Hot and What's Not — BUT Some Surprises, Very Interesting Stories, and Perspectives
DTSTAMP:20260421T154852Z
DESCRIPTION:\nNOT ONLY What's Hot and What's Not - BUT Some Surprises, Very Interesting Stories, and Perspectives\n \nDate: Wednesday, May 14, 2025\n \nTime: 11:30 am – 1:30 pm\n \nLIVE EVENT ONLY!\n \nLocation: Bacari Grill (800 Ridgewood Rd; Township of Washington, NJ 07676)\n \nSpeaker: Alan Davidson, Esq. (Bernstein, DePhillips & Kalosieh, LLP; Wycoff, NJ)\n \n \n \nDO NOT MISS THIS VERY SPECIAL LIVE EVENT!\n \n \n \nHere we are in 2025. One quarter the way through the 21st century! It is now time for what has long been one of our most popular events… What’s Hot and What’s Not…with none other than Alan Davidson, Esq. However, this year’s event is going to be different, and very, very special. Alan is going to be doing his presentation live and in person…however, this is going to be Alan’s crowning achievement…because, this will be Alan’s last ever “What’s Hot and What’s Not” event!\n \n \n \nAlan Davidson, Esq., is not just a long-time member of the Greater New Jersey Estate Planning Council, and also a Past-President, but he is one of the founding members of our council! Alan always has a great deal of recent developments and updates, and he always presents on the hottest and most interesting topics and techniques – but everything he talks about is impactful and compelling! Alan educates us and speaks to our industry and how these topics impact not just our industry, but our work, what we do, every day! Alan’s presentation will be informative and will prompt a lot of thinking and discussion! Alan always educates and entertains the audience with great information, ideas, and very interesting and thought-provoking topics. If you’ve ever attended this event in the past – then this is the one you do not want to miss! If you haven’t, then you cannot miss Alan’s swansong! DO NOT MISS THIS EVENT!\n \n \n \nAlan Davidson, Esq. is well known in the NJ arena and is one of the leading practitioners in the field. Alan is also one of the most respected and most well-liked professionals in our industry. Alan provides his clients with exceptional counsel and support across a wide range of practice areas including estate planning and administration, individual and corporate tax planning, business agreements (including stockholder, partnership and operating agreements, employment and deferred compensation agreements) and purchases and sales of closely-held businesses. Alan is adept at unraveling even the most complex probate and intestacy matters. His extraordinarily varied background in tax law and trusts & estates allows Alan to find creative solutions that protect his clients’ interests.\n \n \n \nAlan is a “Super Lawyer” listing recipient since 2019, and a member and past president of the Greater New Jersey Estate Planning Council (“GNJEPC). Alan has been awarded the Accredited Estate Planner® Designation (AEP) from the National Association of Estate Planners & Councils and is a frequent lecturer on estate, business and tax matters to both professional and lay organizations. Alan has authored several publications including “Using QTIP Trusts in Planning Elective Share Bequests,” which was published in the New Jersey Law Journal. Additionally, Alan co-authored “Sophisticated Estate Planning: Using the Tax Laws to Your Client’s Advantage” published for the Institute for Continuing Legal Education (“ICLE”).\n \n \n \nAlan will cover a great deal of everything, from big tax court cases to laws and legislation, recent developments, new and exciting strategies and techniques, what’s going on in NJ, the good, the bad and the ugly – in the world of estate and gift-tax planning, financial, elder care, insurance and business planning. Alan always picks the most current and germane topics and educates the audience so that everyone is aware of the most important things going on in our industry.\n \n \n \nThis is a don’t miss and can’t miss event – so register early as seating is limited and this event has always been a sell-out!\n \n \n \nREGISTRATION INSTRUCTIONS:\n \n \n \nPlease register at: https://www.eventbrite.com/e/whats-hot-whats-not-surprises-interesting-stories-perspectives-tickets-1338733360519?aff=oddtdtcreator to reserve your ticket and to let us know your CE requirements. \n \nNOTE: If you did not renew for the 2024-2025 year, you will need to purchase a Non-Renewed Member ticket for this event.\n \n \n \n \n \nApplications are pending for 2.0 continuing education credits for CFP, NJ CLE, and NJ CPE. If you wish to receive CE credits, you must provide the necessary license information, and you must attend the full course. \n
SUMMARY:NOT ONLY What's Hot and What's Not — BUT Some Surprises, Very Interesting Stories, and Perspectives - Greater New Jersey Estate Planning Council 
PRIORITY:3
BEGIN:VALARM
TRIGGER:PT18H
ACTION:DISPLAY
DESCRIPTION:Reminder
END:VALARM
END:VEVENT
END:VCALENDAR