BEGIN:VCALENDAR
PRODID:-//hacksw/handcal//NONSGML v1.0//EN
VERSION:2.0
METHOD:PUBLISH
BEGIN:VEVENT
DTSTART:20240918T153000Z
DTEND:20240918T173000Z
LOCATION:Bacari Grill (800 Ridgewood Rd; Township of Washington, NJ  07676
UID:2645420240918T153000ZA Capital Markets and Economic Outlook for 2024 and Beyond
DTSTAMP:20260421T155126Z
DESCRIPTION:\nA Capital Markets and Economic Outlook for 2024 and Beyond!\n \nDate: Wednesday, September 18, 2024\n \nTime: 11:30 am – 1:30 pm\n \nLIVE EVENT ONLY!\n \nLocation: Bacari Grill (800 Ridgewood Rd; Township of Washington, NJ 07676)\n \nSpeaker: Heather L. Kidde, CFA; Senior Vice President, Senior Wealth Manager/Portfolio Manager; BNY Mellon Wealth Management\n \n \n \nSome may feel we are still coming out of the pandemic, while others may feel we are fully back to the (new?) norm. However, the United States is still seeing the impact of the pandemic, financially, economically, politically, and more. Even aside from the pandemic, there is a great deal going on today. The US economy, inflation, recession fears, the aftermath of increasing interest rates and now announced and looming interest rate reductions, and we have seen capital markets behaving very favorably and appearing to recover. The ongoing Russia-Ukraine conflict, a major Presidential election, tax law changes, looming sunset provisions, and so much more. So, what exactly is going on with the financial markets and the economy? What does all this mean? We have seen capital markets reach all-time highs, then regress and pull back, and now we are seeing increases with what appears to be bullish behavior again. Another Bull market? A recovering market? Bear market? Capitulation? Correction? Well, there is nobody better to answer all of these questions and to give us “A Capital Markets And Economic Overview For 2024 And Beyond” than our very special speaker!\n\n\n \n \n \nThe Greater New Jersey Estate Planning Council is very proud and very excited to have none other than Mrs. Heather Kidde, CFA; Senior Vice-President, Senior Wealth Manager/Portfolio Manager; BNY Mellon Wealth Management, join us live for our council-year kick-off special event! This is even more special as Mrs. Kidde is a well-known and well-respected industry veteran, and her speaking engagements are normally reserved for private and very special events. In addition, aside from being a portfolio manager, she is based inside the BNY Mellon Wealth Management division. That means – like us – she is responsible for and works directly with HNW individuals, wealthy families, to address and manage their investment and wealth management planning. Mrs. Kidde also works with the BNY Mellon Wealth Management thought leaders and specialist teams, so she has a very unique insight and perspective on the global economies, especially capital markets, and the world around us today – and what all of this means to our clients!  \n\n\n \n \n \nHeather Kidde will be with us – live and in-person -- as this will be a LIVE ONLY EVENT. Prior to joining BNY Mellon Wealth Management, she was a Portfolio Manager for Northern Trust where she also worked with HNW families and individuals in managing and planning for their investments and wealth management. Prior Northern Trust, Heather was an integral part of an asset management team at both Credit Suisse and Advisory Research. Mrs. Kidde received a bachelor’s degree from Colgate University and is a Certified Financial Analyst (CFA).\n\n\n \n\n \n\n \nThis is going to be a “Don’t Miss” event and a kick-off to a great and exciting 2024-2025 GNJEPC year! Register Now!!!\n \n\n\n\n \n \n \n \n \nREGISTRATION INSTRUCTIONS:\n\n\n \n \n \n \n \n\n\nPlease register at: [https://www.eventbrite.com/e/a-capital-markets-and-economic-outlook-for-2024-and-beyond-tickets-997857046287â](https://www.eventbrite.com/e/a-capital-markets-and-economic-outlook-for-2024-and-beyond-tickets-997857046287) to reserve your ticket and to let us know your CE requirements. \n\n\n \nNOTE: If you have not renewed for the 2024-2025 year, you will need to purchase a Non-Renewed Member ticket or renew your membership ASAP.\n \n \n \n \n \nApplications are pending for 2.0 continuing education credits for CFP, NJ CLE, NJ CTFA, and NJ CPE. If you wish to receive CE credits, you must provide the necessary license information, and you must attend the full course.\n \n \n\n\n
SUMMARY:A Capital Markets and Economic Outlook for 2024 and Beyond - Greater New Jersey Estate Planning Council 
PRIORITY:3
BEGIN:VALARM
TRIGGER:PT18H
ACTION:DISPLAY
DESCRIPTION:Reminder
END:VALARM
END:VEVENT
END:VCALENDAR