BEGIN:VCALENDAR
PRODID:-//hacksw/handcal//NONSGML v1.0//EN
VERSION:2.0
METHOD:PUBLISH
BEGIN:VEVENT
DTSTART:20220901T230000Z
DTEND:20220901T230000Z
LOCATION:
UID:2307220220901T230000ZAdditional $100 Membership Fee
DTSTAMP:20260421T154416Z
DESCRIPTION:\n.\n
SUMMARY:Additional $100 Membership Fee - Greater New Jersey Estate Planning Council 
PRIORITY:3
BEGIN:VALARM
TRIGGER:PT18H
ACTION:DISPLAY
DESCRIPTION:Reminder
END:VALARM
END:VEVENT
END:VCALENDAR