BEGIN:VCALENDAR
PRODID:-//hacksw/handcal//NONSGML v1.0//EN
VERSION:2.0
METHOD:PUBLISH
BEGIN:VEVENT
DTSTART:20220323T130000Z
DTEND:20220323T143000Z
LOCATION:Zoom Webinar 
UID:2244320220323T130000ZLife Insurance Planning for 2022, Split-Dollar Life Insurance, and More! 
DTSTAMP:20260421T154708Z
DESCRIPTION:\n \n \nLife Insurance Planning for 2022, Split-Dollar Life Insurance, and More!\n \nDATE: Wednesday, March 23, 2022\n \nTIME: 9:00 AM – 10:30 AM\n \nLOCATION: Zoom \n \nSPEAKER: Martin M. Shenkman, CPA, MBA, PFS, AEP, JD; Shenkman Law, Fort Lee, NJ and NY, NY\n \nPlease note this is a Zoom Webinar Event\n \nYou will need to complete 2 registrations (see the end of the document)\n \nLife insurance has long been the discussion, and perhaps debate, of many professionals, and clients. There are few estate planning professionals who would argue the value that life insurance plays in a quality wealth management and estate plan. Life insurance can be one of the most powerful, and most versatile, financial vehicles in the entire financial industry.\n \nIn light of the recent Levine case – where the taxpayer won big on both the gift and estate tax issues – please join us for a very exciting presentation from none other than Martin Shenkman, CPA, MBA, PFS, AEP, JD. Most of you know Marty, as he presented to the GNJEPC countless times. He is a long-time member of the Greater New Jersey Estate Planning Council, and is a nationally known trust and estate attorney based out of Fort Lee, NJ, and NYC.\n \nMarty is going to speak about life insurance, the role it plays both inside and outside the modern estate plan, it’s various uses, what to do and what not to do. One of the more popular life insurance planning techniques has long been “split dollar” life insurance. In a very recent – and very important – tax court case, The Estate of Levine prevailed on almost every major issue that the IRS challenged. The estate was able to get a discount on the split dollar receivable – and they also avoided penalties! This is a precedent setting case, but far more importantly, it will now be viewed as the “right way” to structure intergenerational split dollar life insurance plans. Marty is going to talk about loan regime vs. economic benefit split dollar, how and when to use them, and how to get the maximum benefits for our clients.\n \nMarty is also going to look at the tax court's analysis in various cases and tell us how to modify the structure and operation of intergenerational split dollar arrangements so that professionals can mitigate and avoid the various problems that the IRS challenged in these cases.\n \nThis is going to be a DON’T MISS event for all estate planning professionals, whether you deal with life insurance in your practice or not!\n \nREGISTRATION INSTRUCTIONS:\n First, register at: https://www.eventbrite.com/e/life-insurance-planning-for-2022-split-dollar-life-insurance-and-more-tickets-292537847577 to reserve your ticket and to let us know your CE requirements.    \nNOTE: If you have not renewed for the 2021-22 season, please purchase a non-renewed member ticket or renew your membership ASAP.\n \n2. Next, please register for the Zoom Webinar at: https://us02web.zoom.us/webinar/register/WN_rJ0L0tALSIeA4-ORx1Qz4A\n \n3. After you RSVP for the Zoom webinar in step 2, you will be sent a reminder with instructions on how to attend the webinar on the day of the event.\n \nApplications are pending for 2.0 continuing education credits for CFP, NJ CLE, and NJ CPE. If you wish to receive CE credits, you must provide the necessary license information, and you must attend the full course.\n
SUMMARY:Life Insurance Planning for 2022, Split-Dollar Life Insurance, and More!  - Greater New Jersey Estate Planning Council 
PRIORITY:3
BEGIN:VALARM
TRIGGER:PT18H
ACTION:DISPLAY
DESCRIPTION:Reminder
END:VALARM
END:VEVENT
END:VCALENDAR