BEGIN:VCALENDAR
PRODID:-//hacksw/handcal//NONSGML v1.0//EN
VERSION:2.0
METHOD:PUBLISH
BEGIN:VEVENT
DTSTART:20211027T210000Z
DTEND:20211027T223000Z
LOCATION:Pane Vino  640 Wyckoff Avenue  Wyckoff, NJ 07481
UID:2184320211027T210000ZMeet & Greet Happy Hour/Networking Social Event
DTSTAMP:20260421T154729Z
DESCRIPTION:\nPlease join the GNJEPC for our Meet & Greet Happy Hour/Networking Social Event. This social event will be held OUTSIDE (under a tent, so it's not weather-contingent) on  Wednesday, October 27, 2021, from 5pm - 6:30pm at ALDO’S/Pane E Vino, in Wyckoff, NJ. The cost will be $40 per person and will include drinks and light fare/snacks. This is a great opportunity to meet up with fellow members and professionals, so please mark your calendars. Members are welcome to invite guests!  Register today before it's too late!!\n \nTickets: https://www.eventbrite.com/e/meet-greet-happy-hournetworking-social-event-tickets-191466991927\n
SUMMARY:Meet & Greet Happy Hour/Networking Social Event - Greater New Jersey Estate Planning Council 
PRIORITY:3
BEGIN:VALARM
TRIGGER:PT18H
ACTION:DISPLAY
DESCRIPTION:Reminder
END:VALARM
END:VEVENT
END:VCALENDAR