BEGIN:VCALENDAR
PRODID:-//hacksw/handcal//NONSGML v1.0//EN
VERSION:2.0
METHOD:PUBLISH
BEGIN:VEVENT
DTSTART:20210811T210000Z
DTEND:20210811T223000Z
LOCATION:Pane Vino  640 Wyckoff Avenue  Wyckoff, NJ 07481
UID:2129820210811T210000ZGNJEPC - Networking and Social Event Wed, August 11, at 5:00 pm
DTSTAMP:20260421T155150Z
DESCRIPTION:\nHello GNJEPC members!  We are pleased to announce our IN PERSON networking and social event on August 11, 2021 from 5pm - 6:30pm at ALDO’S/Pane E Vino in Wyckoff, NJ. Please save the date and join our first in person meeting of 2021! The cost will be $40 per person and will include drinks, light fare, brick-oven pizza, bruschetta, etc.\n \nGet your tickets here:[ ](https://www.eventbrite.com/e/gnjepc-networking-and-social-night-tickets-164523503227)https://www.eventbrite.com/e/gnjepc-networking-and-social-night-tickets-164523503227\n \nThis is a great opportunity to meet up with fellow professionals. If you have any questions about this event, please e-mail our administrator, Jesse Castellanos, at greaternjepc@gmail.com. \n
SUMMARY:GNJEPC - Networking and Social Event Wed, August 11, at 5:00 pm - Greater New Jersey Estate Planning Council 
PRIORITY:3
BEGIN:VALARM
TRIGGER:PT18H
ACTION:DISPLAY
DESCRIPTION:Reminder
END:VALARM
END:VEVENT
END:VCALENDAR