BEGIN:VCALENDAR
PRODID:-//hacksw/handcal//NONSGML v1.0//EN
VERSION:2.0
METHOD:PUBLISH
BEGIN:VEVENT
DTSTART:20201118T223000Z
DTEND:20201119T000000Z
LOCATION:Virtual
UID:2018420201118T223000ZVirtual Happy Hour
DTSTAMP:20260421T154222Z
DESCRIPTION:\n \n \nVirtual happy hour news.  Hello GNJEPC members!  We are pleased to announce two upcoming virtual happy hours on Wednesday, October 21, and Wednesday, November 18, at 5:30.  Please put these dates on your calendars.  And please join for these events. \n \nAll members who are interested in the virtual happy hour can sign up in advance.  We will divide people into groups of 5-6, and we arrange a 30-60 minute virtual happy hour.  A board member or another member will moderate, choose drinks, etc.  This is a great opportunity to meet up with fellow professionals. \n \nIf you are interested in this event, please e-mail our administrator, Stephen Summers, at greaternjepc@gmail.com right away. \n
SUMMARY:Virtual Happy Hour - Greater New Jersey Estate Planning Council 
PRIORITY:3
BEGIN:VALARM
TRIGGER:PT18H
ACTION:DISPLAY
DESCRIPTION:Reminder
END:VALARM
END:VEVENT
END:VCALENDAR