BEGIN:VCALENDAR
PRODID:-//hacksw/handcal//NONSGML v1.0//EN
VERSION:2.0
METHOD:PUBLISH
BEGIN:VEVENT
DTSTART:20200506T160000Z
DTEND:20200506T180000Z
LOCATION:Webinar
UID:1925820200506T160000ZWhat’s Hot and What’s Not Right Now: Estate and Asset Protection Planning Under COVID-19
DTSTAMP:20260421T154538Z
DESCRIPTION:\n  \n  \nPlease join the Greater New Jersey Estate Planning Council \n \n  \nWhen: Wednesday, May 6, 2020 \nWhere: Webinar Only \nTime: 12:00 pm to 2:00 pm \n  \nPlease note this is a Zoom Webinar Event.  Register below to let us know your CE Requirements.   The Zoom invitation will be sent at a later date.  \n  \nWe all know that, in addition to a pandemic and health emergency, the coronavirus and the resulting quarantines and effects, have had a devastating effect on the economy.  We see what has happened in the equity markets worldwide. We have seen the impact on individuals, families, and businesses both large and small. We are seeing the impact on economies around the world. \n  \nMake no mistake – planning necessarily continues even in an unfortunate economic landscape.  With or without you, clients will continue to undertake planning to save taxes, protect and preserve assets, and shore up family governance, although the techniques and motivations may be different, and advisors may need to provide timely and directed guidance so that clients understand the different planning opportunities that now exist. \n  \nDan Rubin is a nationally known estate and asset protection attorney, and will speak to the council about “What’s Hot and What’s Not Right Now,” in connection with estate, tax, and gift tax planning, and in connection with asset protection planning, in light of the global pandemic health emergency which has unfortunately also had a devastating effect on the global economy. We are now looking at a different landscape, not just a low-interest rate environment, but one with suppressed and depressed asset values. \n  \nDan will review the techniques and motivations most appropriate in light of the current pandemic so that you can remain at the cutting edge of effective planning for your clients throughout the pandemic, and then after the world normalizes. \n \n \nThis is absolutely going to be a DO NOT MISS EVENT with a nationally known expert! Please join us for this free video/web meeting!\n \n \n \nEvent Sponsor:\n \n\n  \n  \n \n \n \n \n \n \n \n \n \n \n \n \n \n
SUMMARY:What’s Hot and What’s Not Right Now: Estate and Asset Protection Planning Under COVID-19 - Greater New Jersey Estate Planning Council 
PRIORITY:3
BEGIN:VALARM
TRIGGER:PT18H
ACTION:DISPLAY
DESCRIPTION:Reminder
END:VALARM
END:VEVENT
END:VCALENDAR