BEGIN:VCALENDAR
PRODID:-//hacksw/handcal//NONSGML v1.0//EN
VERSION:2.0
METHOD:PUBLISH
BEGIN:VEVENT
DTSTART:20191120T163000Z
DTEND:20191120T184500Z
LOCATION:Seasons
UID:1848420191120T163000ZA Special Elder Care and Special Needs Planning Update – What's New, Recent Developments, Recent Cases, New Legislation
DTSTAMP:20260421T154254Z
DESCRIPTION:\n  \nPlease join the Greater New Jersey Estate Planning Council \n  \nWhen: Wednesday, November 20th, 2019 \nWhere: Seasons in Washington Township, NJ \nTime: 11:30 am to 1:45 pm \n  \n  \nPlease note this is a Luncheon Meeting Event  \nDoors will open at 11:30 AM for Check-In\n \n \n \nWe are very excited for our November event! A Special Elder Care and Special Needs Planning Update – What's New, Recent Developments, Recent Cases, New Legislation – is going to be the best ever, and even more important, very timely! We are very excited to have two very exciting and prominent speakers. Regina Spielberg, Esq., and Lauren Mechaly, Esq., from Schenck, Price, Smith & King, LLP, will be giving a comprehensive update on Elder Care and Special Needs Planning. Even if you don't specialize or your practice is not focused in these areas – it is more important than ever to have a basic handle and understanding of these areas. Elder Care and Special Needs issues are becoming more common, and more prevalent today, and they are impacting and affecting our clients – sometimes without us as professionals even realizing it – and it can significantly impact and effect the planning we do for them. This presentation will cover a high-quality, basic foundation, as well as provide expert advice, recent developments, changes in the laws, and recent cases – all of which can and will impact our clients, perhaps their parents, children, and others. These two well-known experts will also talk about new and changing topics, new laws and legislation, and recent cases which we as professionals have to know about. This is going to be a “Don’t Miss” event – and you can be assured that you will get great information from two leading experts in the field.\n \n \n \nREGISTRATION IS CLOSED.  PLEASE CONTACT STEPHEN SUMMERS AT greaternjepc@gmail.com IF YOU STILL WISH TO RSVP.\n
SUMMARY:A Special Elder Care and Special Needs Planning Update – What's New, Recent Developments, Recent Cases, New Legislation - Greater New Jersey Estate Planning Council 
PRIORITY:3
BEGIN:VALARM
TRIGGER:PT18H
ACTION:DISPLAY
DESCRIPTION:Reminder
END:VALARM
END:VEVENT
END:VCALENDAR