BEGIN:VCALENDAR
PRODID:-//hacksw/handcal//NONSGML v1.0//EN
VERSION:2.0
METHOD:PUBLISH
BEGIN:VEVENT
DTSTART:20190404T230000Z
DTEND:20190404T123000Z
LOCATION:Ramsey Free Public Library, 30 Wyckoff Ave, Ramsey, NJ 07446
UID:1765020190404T230000ZFinancial and Estate Planning topics – a panel discussion.
DTSTAMP:20260421T154539Z
DESCRIPTION:\nTopics may include wills, trusts, college planning, retirement planning, and elder law.\n \nAs part of the NAEPC Council of Excellence award, the Greater New Jersey Estate Planning Council is committed to producing a community event on estate planning.  This event will be part of the national Money Smart Week promotion sponsored by the Federal Reserve Bank of Chicago and the Consumer Financial Protection Bureau.   \n \nThe evening’s program will begin at 7:00 pm and end at 8:30 pm.  Two or three professionals from the GNJEPC (with different specialties) will speak for about 20 mins each, followed by Q&A.  There will be time after the program has ended where speakers and audience members can converse if both parties are interested. GNJEPC members who are not presenting are welcome to attend and be identified for audience interaction after the program.  \n \nAll talks are to be educational in nature and should support attendees in improving their knowledge, behaviors, and habits related to personal finances and estate planning.  No sales pitches are allowed.\n \nRSVP at [https://www.eventbrite.com/e/gnjepc-community-outreach-events-april-4th-tickets-58376000188 ](https://www.eventbrite.com/e/gnjepc-community-outreach-events-april-4th-tickets-58376000188â)\n \nor at the following direct link:\n \nRamsey Free Public Library http://bit.ly/2XLaNRA\n \n \n
SUMMARY:Financial and Estate Planning topics – a panel discussion. - Greater New Jersey Estate Planning Council 
PRIORITY:3
BEGIN:VALARM
TRIGGER:PT18H
ACTION:DISPLAY
DESCRIPTION:Reminder
END:VALARM
END:VEVENT
END:VCALENDAR