BEGIN:VCALENDAR
PRODID:-//hacksw/handcal//NONSGML v1.0//EN
VERSION:2.0
METHOD:PUBLISH
BEGIN:VEVENT
DTSTART:20180801T223000Z
DTEND:20180802T010000Z
LOCATION:Bacari Grill
UID:1665920180801T223000ZGreater New Jersey Estate Planning Council Cocktail Party
DTSTAMP:20260421T154852Z
DESCRIPTION:\n \n \nMEMBER APPRECIATION COCKTAIL PARTY\n \n \n \nThursday, October 4, 2018, at 6:30 pm\n \n \n \nWhere: Bacari Grill, 800 Ridgewood Road, Township of Washington, NJ 07676\n \nInvitations to be Sent by Email.\n \nWe look forward to seeing you on October 4th!\n \n \n \n \n \n \n
SUMMARY:Greater New Jersey Estate Planning Council Cocktail Party - Greater New Jersey Estate Planning Council 
PRIORITY:3
BEGIN:VALARM
TRIGGER:PT18H
ACTION:DISPLAY
DESCRIPTION:Reminder
END:VALARM
END:VEVENT
END:VCALENDAR