BEGIN:VCALENDAR
PRODID:-//hacksw/handcal//NONSGML v1.0//EN
VERSION:2.0
METHOD:PUBLISH
BEGIN:VEVENT
DTSTART:20181107T130000Z
DTEND:20181107T151500Z
LOCATION:Bacari Grill
UID:1665820181107T130000ZSection 199A, Planning For 2018 And Beyond, and Life Insurance
DTSTAMP:20260420T082226Z
DESCRIPTION:\nREGISTRATION IS CLOSED \nPlease join the Greater New Jersey Estate Planning Council \n  \nWhen: Wednesday, November 7th, 2018, at  \nWhere: Bacari Grill in Washington Township, NJ \nTime: 8:00 am to 10:15 am \nSpeaker: Martin Shenkman, Esq. \n  \nPlease note this is a Breakfast Meeting Event  \nDoors will open at 8:00 AM for Check-In\n \n \n \nWe are very excited to have none other than nationally known expert -- and fellow GNJEPC member -- Martin Shenkman, Esq., come and present, live, on this very hot topic. Marty has not only written on this topic, but he's lectured/presented more than anyone else, to professionals all over the US. So, what's really important to know? Hear about the latest developments on what the experts think may happen, as well as, the multiple trust rules which have been proposed, how they conflict with the statute and what remains to plan for; SSTB (Specified Service Trade or Business) definitions, aggregation, and common control rules, life insurance, net leased real estate and how real estate planning can integrate into 199A, as well as other very important topics. Marty will also talk about the new proposed regs, new planning opportunities, 643 multiple trust rules and how that affects planning, and more. \n \n \n
SUMMARY:Section 199A, Planning For 2018 And Beyond, and Life Insurance - Greater New Jersey Estate Planning Council 
PRIORITY:3
BEGIN:VALARM
TRIGGER:PT18H
ACTION:DISPLAY
DESCRIPTION:Reminder
END:VALARM
END:VEVENT
END:VCALENDAR