BEGIN:VCALENDAR
PRODID:-//hacksw/handcal//NONSGML v1.0//EN
VERSION:2.0
METHOD:PUBLISH
BEGIN:VEVENT
DTSTART:20180214T123000Z
DTEND:20180214T160000Z
LOCATION:Seasons
UID:1522220180214T123000ZA Review of The Best of The 2018 Heckerling Institute on Estate Planning
DTSTAMP:20260421T155150Z
DESCRIPTION:\n \n \n \n \nA Joint-Event From\n \nThe Greater New Jersey Estate Planning Council\n and The Estate Planning Council of Bergen County\n \nAn Expanded and Special Event\n \nPlease use the link to register:  [http://heckerling2018.eventbrite.com](http://heckerling2018.eventbrite.com/)\n \nWhile Heckerling reviews are very common this time of year – this one is not! Heckerling is now over. Even if you went to Heckerling, you need to attend this Heckerling Review. The Greater New Jersey Estate Planning Council and The Estate Planning Council of Bergen County have joined forces for this incredible event. Unlike previous years, we have now expanded the presentation and will be offering this Special Event.\n \nMartin Shenkman, Esq. and Richard Greenberg, Esq., nationally known experts on estate and tax planning, attended Heckerling just a few weeks ago as they have for countless years – and now they have developed a comprehensive analysis and review of the new tax law and what it means to us as professionals, and a review of the entire week of the Heckerling Institute. Marty and Rich will present the Best, the Most Intriguing, and perhaps a bit of the Scariest ideas from Heckerling and will discuss how to make it all work for your clients and you!\n \nThis new, premier event is going to be 3 hours of the best of everything from the 2018 Heckerling Institute on Estate Planning. Don’t miss this event! Whether you went to the Heckerling Institute or not – this is one event you do not want to miss!\n \nThis is going to be a Don’t Miss event! What will Tax Reform mean to our clients? How do we as professionals plan for our clients with so much that is new, uncertainty, and many unknowns? What is new? What is different? What should we be doing for our clients – and for our practice – now?\n \n******\n \nContinuing Education:\n \nCTFA:  A Review of The Best of the 2018 Heckerling Institute on Estate Planning has been approved for 3.0 CTFA credits.  This statement should not be viewed as an endorsement of this program or its sponsor.  Certification holders must report these credits to [aba.csod.com](http://aba.csod.com/). \n \nNJ Insurance:  An application has been submitted for approval. 3.0 credits.\n \nNJ CPE 3.0 credits - A Review Of The Best Of The 2018 Heckerling Institute on Estate Planning (Level: Intermediate; Topic Area(s): Estate/Retirement Planning). \n \nCFP: 3.0 A Review Of The Best Of The 2018 Heckerling Institute on Estate Planning (Program ID: A Review Of The Best Of The 2018 Heckerling Institute on Estate Planning).\n \nNJ CLE: 3.0 credits A Review Of The Best Of The 2018 Heckerling Institute on Estate Planning. This program has been approved by the Board on Continuing Legal Education of the Supreme Court of New Jersey for 3.0 hours of total NJ CLE (0.0 Ethics).   Greater NJ Estate Planning Council, Inc.- Sponsor #160 / Course #83.\n \n \n \nSponsor(s):\n \n\n \n \n \n \n \n \n \n  \n \n \n \n \n
SUMMARY:A Review of The Best of The 2018 Heckerling Institute on Estate Planning - Greater New Jersey Estate Planning Council 
PRIORITY:3
BEGIN:VALARM
TRIGGER:PT18H
ACTION:DISPLAY
DESCRIPTION:Reminder
END:VALARM
END:VEVENT
END:VCALENDAR