BEGIN:VCALENDAR
PRODID:-//hacksw/handcal//NONSGML v1.0//EN
VERSION:2.0
METHOD:PUBLISH
BEGIN:VEVENT
DTSTART:20171018T120000Z
DTEND:20171018T140000Z
LOCATION:Bacari Grill
UID:1521920171018T120000ZWhat’s New In Retirement/Distribution Planning and Roth IRA’s for 2017 and Beyond…Using Trusts with Retirement Plan Assets
DTSTAMP:20260421T154355Z
DESCRIPTION:\nPlease note this is a Breakfast Event - Doors will open at 8:00 AM\n \nThe Greater New Jersey Estate Planning Council is once again excited to welcome back Leonard Witman, Esq. While this has become an annual event, it has also become one of our most popular. Retirement planning is the most talked about topic throughout the United States – people are afraid of not having enough money, outliving their money and more. The largest portion of our nation’s wealth is inside retirement plan accounts. It is common that for some of our clients their largest asset is their retirement account . Even if it is not, retirement plan assets are a critical element of estate planning and wealth management. Mr. Witman is a nationally known lecturer, author and expert in Retirement and Distribution Planning and Estate Planning. During this exciting session, Mr. Witman will cover what's new, what’s hot and what’s not in Retirement and Distribution Planning and using trusts with Retirement Plan assets. Mr. Witman will also share some new planning ideas that you may never have thought of. You are guaranteed to hear great ideas that can help your clients – and help you! Bring your questions as Mr. Witman is truly an expert's expert. This is assured to be a very interesting and informative event – one you don’t want to miss!\n \nTO REGISTER RSVP HERE  https://gnjepcoctober2017.eventbrite.com\n \n \n
SUMMARY:What’s New In Retirement/Distribution Planning and Roth IRA’s for 2017 and Beyond…Using Trusts with Retirement Plan Assets - Greater New Jersey Estate Planning Council 
PRIORITY:3
BEGIN:VALARM
TRIGGER:PT18H
ACTION:DISPLAY
DESCRIPTION:Reminder
END:VALARM
END:VEVENT
END:VCALENDAR