BEGIN:VCALENDAR
PRODID:-//hacksw/handcal//NONSGML v1.0//EN
VERSION:2.0
METHOD:PUBLISH
BEGIN:VEVENT
DTSTART:20170913T153000Z
DTEND:20170913T174500Z
LOCATION:Bacari Grill
UID:1488920170913T153000ZA Capital Markets and Economic Outlook
DTSTAMP:20260421T154709Z
DESCRIPTION:\nWe are excited to welcome back Mr. Paul Robertson, from Bernstein (Alliance Bernstein). Paul is not only one of the most respected and premier Senior Portfolio Managers in the industry, but he is also a member of Bernstein’s Private Client Investment Policy Group, directing investment policy for the private clients of Bernstein. Paul is going to share with us a Capital Markets and Economic Outlook for 2018 and beyond. One of, if not the hottest topic today is the recent Presidential election, and Paul is going to talk about that and the effect on capital markets and the economy.\n \nWhile Paul is not only an expert on capital markets, he is an economist as well. Paul has an MBA and a law degree and formerly worked as an economist for the Australian government. He brings a tremendous amount of experience, insight and expertise to his presentations, and we are very excited and looking forward to having him back.\n \nDon’t miss this exciting event. You will certainly gain a great deal of knowledge and education as to capital markets and the economy.\n
SUMMARY:A Capital Markets and Economic Outlook - Greater New Jersey Estate Planning Council 
PRIORITY:3
BEGIN:VALARM
TRIGGER:PT18H
ACTION:DISPLAY
DESCRIPTION:Reminder
END:VALARM
END:VEVENT
END:VCALENDAR