BEGIN:VCALENDAR
PRODID:-//hacksw/handcal//NONSGML v1.0//EN
VERSION:2.0
METHOD:PUBLISH
BEGIN:VEVENT
DTSTART:20160929T220000Z
DTEND:20160930T010000Z
LOCATION:Bacari Grill - Washington Township, NJ
UID:1349020160929T220000ZGreater New Jersey Estate Planning Council Cocktail Party
DTSTAMP:20260421T154356Z
DESCRIPTION:\nTicketing information for members and their guests will be sent via e-mail to Council members in August.\n
SUMMARY:Greater New Jersey Estate Planning Council Cocktail Party - Greater New Jersey Estate Planning Council 
PRIORITY:3
BEGIN:VALARM
TRIGGER:PT18H
ACTION:DISPLAY
DESCRIPTION:Reminder
END:VALARM
END:VEVENT
END:VCALENDAR