BEGIN:VCALENDAR
PRODID:-//hacksw/handcal//NONSGML v1.0//EN
VERSION:2.0
METHOD:PUBLISH
BEGIN:VEVENT
DTSTART:20160914T153000Z
DTEND:20160914T174500Z
LOCATION:Bacari Grill - Washington Township, NJ
UID:1330520160914T153000ZA Capital Markets and Economic Outlook for 2016 and Beyond, and “The Election”
DTSTAMP:20260421T154906Z
DESCRIPTION:\n \n \n \n \nWe are excited to welcome back Mr. Paul Robertson, from Bernstein (Alliance Bernstein). Paul is not only one of the most respected and premier Senior Portfolio Managers in the industry, but he is also a member of Bernstein’s Private Client Investment Policy Group, directing investment policy for the private clients of Bernstein. Paul is going to share with us a Capital Markets and Economic Outlook for 2017 and beyond. One of the, if not the, hottest topic today is the upcoming Presidential election, and Paul is going to talk about that and the effect on capital markets and the economy.\n \nWhile Paul is not only an expert on capital markets, he is an economist as well. Paul not only has an MBA, but a law degree, and formerly worked as an economist for the Australian government. He brings a tremendous amount of experience, insight and expertise to his presentations, and we are very excited and looking forward to having him back.\n \nDon’t miss this exciting event. You will certainly gain a great deal of knowledge and education as to capital markets and the economy.\n \n \n \n* * * * \n \nNJ CLE - 2.0 credits Capital Markets and Economic Outlook for 2016 and Beyond\n \n“This program had been approved by the Board on Continuing Legal Education of the Supreme Court of New Jersey for 2.0 hours of total CLE credit. Of these, 0.00 qualify as hours of credit for ethics/professionalism, and  0.00 qualify as hours of credit toward certification in civil trial law, criminal trial law, workers compensation law, municipal court law, and/or matrimonial law.”\n \nCFP - 2.0 credits “Capital Markets and Economic Outlook for 2016 and Beyond the Election” (Program ID 230400)\n \nNJ CPE-  2.0 credits Capital Markets and Economic Outlook for 2016 and Beyond\n \nNJ Insurance 2.0 credits - A CAPITAL MARKETS AND ECONOMIC OUTLOOK FOR 2016 AND BEYOND AND "THE ELECTION"  ( 88898227 )\n \n \n \n \n \nPlease click on the link below if you wish to purchase a ticket to this event.\n \n \n \n \n \n \n
SUMMARY:A Capital Markets and Economic Outlook for 2016 and Beyond, and “The Election” - Greater New Jersey Estate Planning Council 
PRIORITY:3
BEGIN:VALARM
TRIGGER:PT18H
ACTION:DISPLAY
DESCRIPTION:Reminder
END:VALARM
END:VEVENT
END:VCALENDAR