BEGIN:VCALENDAR
PRODID:-//hacksw/handcal//NONSGML v1.0//EN
VERSION:2.0
METHOD:PUBLISH
BEGIN:VEVENT
DTSTART:20160420T153000Z
DTEND:20160420T174500Z
LOCATION:Bacari Grill - Washington Township, NJ
UID:1282320160420T153000ZCharitable Planning in the New Estate Planning World – why you must include charitable planning into your practice and your planning process
DTSTAMP:20260421T154910Z
DESCRIPTION:\nProgram Summary:\n \nOf course most of us are familiar with philanthropic and charitable planning. We can effectively answer questions when our clients ask. Many professionals can even identify opportunities and situations where charitable techniques might be a potential solution. However, why should be even more proactive? Why should we be incorporating charitable planning into our practices and into our conversations with our clients? For our April event we will hear from a nationally known expert, Jacqueline Valouch -- a former trust and estates attorney, who is the Vice-President for Charitable Planning for Fidelity Charitable. She will cover what's new, what's hot, and why we should be talking to our clients about charitable planning. We've seen changes in the tax laws/code, higher exemptions, lower estate tax rates, higher income tax rates, and more. Many professionals think charitable planning is simply for clients who are charitable. Is it? Charitable techniques and strategies can create and transfer large amounts of wealth.\n \n \n \nDon't miss this brand-new, informative presentation. It will not only help our clients, but will help us as professionals.\n \n \n \n \n \nProgram Schedule:\n \n11:30 am -- Registration Opens/Networking\n \n11:45 am -- Lunch Begins\n \n12 noon -- Program begins\n \n1:45 pm -- Program concludes\n \n  \n \nContinuing Education: \n  \nCFP - 2.0 credits “Charitable Planning in the New Estate Planning World” (Program ID 225596) \n  \nNJ CLE - Charitable Planning in the New Estate Planning World #62 \nThis program had been approved by the Board on Continuing Legal Education of the Supreme Court of New Jersey for 2.0  hours of total CLE credit. Of these, 0.00 qualify as hours of credit for ethics/professionalism, and 0.00 qualify as hours of credit toward certification in civil trial law, criminal trial law, workers compensation law, municipal court law, and/or matrimonial law. \n  \n \nNJ INS - 2.0 credits Charitable Planning in the New Estate Planning World  ( 88897768 ) \n  \nNJ CPE - application pending  \n \n \n
SUMMARY:Charitable Planning in the New Estate Planning World – why you must include charitable planning into your practice and your planning process - Greater New Jersey Estate Planning Council 
PRIORITY:3
BEGIN:VALARM
TRIGGER:PT18H
ACTION:DISPLAY
DESCRIPTION:Reminder
END:VALARM
END:VEVENT
END:VCALENDAR