BEGIN:VCALENDAR
PRODID:-//hacksw/handcal//NONSGML v1.0//EN
VERSION:2.0
METHOD:PUBLISH
BEGIN:VEVENT
DTSTART:20160120T163000Z
DTEND:20160120T184500Z
LOCATION:Bacari Grill - Washington Township, NJ
UID:1263520160120T163000ZNEW JERSEY ELDER CARE AND SPECIAL NEEDS PLANNING UPDATE  - What's New, Recent Developments
DTSTAMP:20260421T154911Z
DESCRIPTION:\n \n \n \n \nWe are excited to start off 2016 with a very current and hot topic; and two very exciting and prominent speakers. Regina Spielberg, Esq., and Crystal West Edwards, Esq., from Schenck, Price, Smith & King, LLP, will be giving a comprehensive update on Elder Care and Special Needs Planning -- What's New and Recent Developments. Even if you don't specialize or your practice is not focused in these areas -- it's important to have a basic handle and understanding, because these areas can impact and affect our clients, without us as professionals even realizing it. This presentation will cover a high-quality, basic foundation, as well as provide expert advice, recent developments, changes in the laws, and recent cases, that can and will impact our clients, perhaps their parents, children, and others. These two well-known experts will also talk about new and changing topics such as Miller Trusts, Elder Abuse, and more. You should attend this event so that you can get a quality education from two leading experts in the field.\n \n \n \n \n \nContinuing Education:\n \nNJ CPE: 2.0 credits\n \nNJ INS: 2.0 credits New Jersey Elder Care and Special Needs Planning Update (#88897430)\n \nCFP: 2.0 credits, Program ID 222584 New Jersey Elder Care and Special Needs Planning Update\n \nNJ CLE: 2.0 NJ ELDER CARE AND SPECIAL NEEDS PLANNING UPDATE #59\n \nThis program had been approved by the Board on Continuing Legal Education of the Supreme Court of New Jersey for 2.0  hours of total CLE credit. Of these, 0.00 qualify as hours of credit for ethics/professionalism, and 0.00 qualify as hours of credit toward certification in civil trial law, criminal trial law, workers compensation law, municipal court law, and/or matrimonial law. \n \nProgram Schedule:\n \n11:30am -- Registration Opens/Networking\n \n11:45am -- Lunch Begins\n \n12noon -- Program begins\n \n1:45 -- Program concludes\n
SUMMARY:NEW JERSEY ELDER CARE AND SPECIAL NEEDS PLANNING UPDATE  - What's New, Recent Developments - Greater New Jersey Estate Planning Council 
PRIORITY:3
BEGIN:VALARM
TRIGGER:PT18H
ACTION:DISPLAY
DESCRIPTION:Reminder
END:VALARM
END:VEVENT
END:VCALENDAR