BEGIN:VCALENDAR
PRODID:-//hacksw/handcal//NONSGML v1.0//EN
VERSION:2.0
METHOD:PUBLISH
BEGIN:VEVENT
DTSTART:20151209T130000Z
DTEND:20151209T150000Z
LOCATION:SEASONS - Washington Township, NJ
UID:1237120151209T130000ZRetirement Planning Ideas You Might Never Have Thought Of  
DTSTAMP:20260421T155026Z
DESCRIPTION:\nProgram Description: Once again the GNJEPC is excited to welcome back Leonard Witman, Esq. While this has become an annual event, it has also become one of our most popular. Mr. Witman is a nationally known lecturer, author, and expert in Retirement and Distribution Planning and Estate Planning. He will cover what's new, what’s hot, and what’s not, in Retirement and Distribution Planning, Roth IRA’s, and using trusts with Retirement Plan assets. Mr. Witman will also share some new planning ideas that you may never have thought of. Bring your questions as Mr. Witman is truly an expert's expert. This is assured to be a very interesting and informative event – one you don’t want to miss!\n \n \n \nContinuing Education:\n \n \n \n2.0 credits NJ CPE\n \n2.0 credits NJ Insurance #88897285 Retirement Planning Ideas You Might Never Thought Of\n \n2.0 credits CFP Retirement Planning Ideas You Might Have Never Thought of (Program ID 221555)\n \n2.0 credits NJ CLE RETIREMENT PLANNING IDEAS YOU MIGHT NEVER HAVE THOUGHT OF Course # 58 This program had been approved by the Board on Continuing Legal Education of the Supreme Court of New Jersey for 2.0  hours of total CLE credit. Of these, 0.00 qualify as hours of credit for ethics/professionalism, and 0.00 qualify as hours of credit toward certification in civil trial law, criminal trial law, workers compensation law, municipal court law, and/or matrimonial law. \n \n \n \n \n \n \n \n \n \n \n
SUMMARY:Retirement Planning Ideas You Might Never Have Thought Of   - Greater New Jersey Estate Planning Council 
PRIORITY:3
BEGIN:VALARM
TRIGGER:PT18H
ACTION:DISPLAY
DESCRIPTION:Reminder
END:VALARM
END:VEVENT
END:VCALENDAR