BEGIN:VCALENDAR
PRODID:-//hacksw/handcal//NONSGML v1.0//EN
VERSION:2.0
METHOD:PUBLISH
BEGIN:VEVENT
DTSTART:20151111T163000Z
DTEND:20151111T184500Z
LOCATION:Bacari Grill, Washington Township, New Jersey
UID:1212420151111T163000ZLearning about Long Term Care ... LTC 101 – The Basics
DTSTAMP:20260421T154502Z
DESCRIPTION:\nContinuing Education:\n \nCFP: 2.0 credits “Learning About Long Term Care” (Program ID 220431)\n \nNJ CLE - 2.0 credits "LEARNING ABOUT LONG-TERM CARE"  (Course #57) This program had been approved by the Board on Continuing Legal Education of the Supreme Court of New Jersey for 2.0  hours of total CLE credit. Of these, 0.00 qualify as hours of credit for ethics/professionalism, and 0.00 qualify as hours of credit toward certification in civil trial law, criminal trial law, workers compensation law, municipal court law, and/or matrimonial law. \n \nNJ INS - 2.0 credits #88897282 Learning About Long Term Care - LTC 101 - The Basics\n \nNJ CPE - 2.0 credits  Learning About Long Term Care - The Basics\n \n \n \nMeeting Schedule\n \nâ11:30am -- Registration Opens/Networking\n \n11:45am -- Lunch Begins\n \n12noon -- Program begins\n \n1:45 -- Program concludes\n \n \n \n \n \nRichelle Collazo, LTCP, CLTC - BIO\n \nGenworth Financial\n \nRegional Vice President\n \nLong Term Care Insurance and Linked Benefit\n \nMobile 201 397.3358\n \nFAX 877 244.4153\n \nRichelle Collazo is the Genworth Regional Vice President for the Northern NJ/NYC\n \nterritory. She’s a long term care planning professional with more than 14 years of\n \nexperience in the financial services industry and a recurrent MDRT qualifier on LTCi\n \nproduction alone. She has an unparalleled passion for long term care planning and\n \nhelping you achieve protection for your clients. Along with her Genworth Internal Sales\n \nTeam Partner, she will\n \nï· Educate you on how to integrate long term care planning into a comprehensive\n \nretirement strategy;\n \nï· Use a consultative sales approach to help guide you with selecting a long term\n \ncare solution for your client;\n \nï· Deliver training, client seminars and activities that can help you grow your\n \nbusiness;\n \nï· Provide sales concepts and valueâadded tools to help you identify and\n \nrecommend long term care solutions; and\n \nï· Help you create growth and expansion opportunities.\n \nRichelle’s top priority is to support the growth and success of your business. No matter\n \nwhere you are in the sales process, she will connect you with tools to help you grow\n \nyour business and looks forward to continuing to be a valued partner both now and in\n \nthe future.\n
SUMMARY:Learning about Long Term Care ... LTC 101 – The Basics - Greater New Jersey Estate Planning Council 
PRIORITY:3
BEGIN:VALARM
TRIGGER:PT18H
ACTION:DISPLAY
DESCRIPTION:Reminder
END:VALARM
END:VEVENT
END:VCALENDAR