BEGIN:VCALENDAR
PRODID:-//hacksw/handcal//NONSGML v1.0//EN
VERSION:2.0
METHOD:PUBLISH
BEGIN:VEVENT
DTSTART:20151021T153000Z
DTEND:20151021T174500Z
LOCATION:Bacari Grill, Washington Township, New Jersey
UID:1212320151021T153000ZRecent Developments and What’s New in Valuations and Valuation Discounts
DTSTAMP:20260421T155046Z
DESCRIPTION:\nMeeting Schedule\n \nâ11:30am -- Registration Opens/Networking\n \n11:45am -- Lunch Begins\n \n12noon -- Program begins\n \n1:45 -- Program concludes\n \n \n \nContinuing Education:\n \n \n \nCFP -  2.0 credits “Recent & New Developments in Valuations & Valuation Discounts” (Program ID 219697)\n \nNJ CPE - 2.0 credits\n \n \n \nNJ INS: 2.0 #88897204 Recent Developments and What’s New in Valuations and Valuations Discounts \n \nNJ CLE 2.0 credits "WHAT'S NEW IN VALUATION AND VALUATION DISCOUNTS" (#56)\n \nThis program had been approved by the Board on Continuing Legal Education of the Supreme Court of New Jersey for 2.0  hours of total CLE credit. Of these, 0.00 qualify as hours of credit for ethics/professionalism, and 0.00 qualify as hours of credit toward certification in civil trial law, criminal trial law, workers compensation law, municipal court law, and/or matrimonial law. \n
SUMMARY:Recent Developments and What’s New in Valuations and Valuation Discounts - Greater New Jersey Estate Planning Council 
PRIORITY:3
BEGIN:VALARM
TRIGGER:PT18H
ACTION:DISPLAY
DESCRIPTION:Reminder
END:VALARM
END:VEVENT
END:VCALENDAR