BEGIN:VCALENDAR
PRODID:-//hacksw/handcal//NONSGML v1.0//EN
VERSION:2.0
METHOD:PUBLISH
BEGIN:VEVENT
DTSTART:20150311T153000Z
DTEND:20150311T174500Z
LOCATION:Bacari Grill, Washington Township, New Jersey
UID:1079420150311T153000ZEnd of Life Strategies from Elder Law to Hospice
DTSTAMP:20260421T154955Z
DESCRIPTION:\nRESERVE A TICKET TO ATTEND:  https://gnjepcmarch2015.eventbrite.com\n \nPlease note registration begins at 11:30 am and the meeting will start promptly with lunch at 11:45 am.\n \nContinung Education:\n \nNJ Insurance: 2.0 Credits - End of Life Strategies from Elder Law to Hospice (Course #88896399 / Life)\n \nNJ CPE - 2.0 Credits\n \nNJ CLE - 2.0 Credits End of Life Strategies from Elder Law to Hospice (#51)\n \nThis program had been approved by the Board on Continuing Legal Education of the Supreme Court of New Jersey for 2.0  hours of total CLE credit. Of these, 0.00 qualify as hours of credit for ethics/professionalism, and 0.00 qualify as hours of credit toward certification in civil trial law, criminal trial law, workers compensation law, municipal court law, and/or matrimonial law. \n \nCFP - 2.0 Credits Program Name: End of Life Strategies from Elder Law to Hospice\nProgram ID: 202450\n \n \n
SUMMARY:End of Life Strategies from Elder Law to Hospice - Greater New Jersey Estate Planning Council 
PRIORITY:3
BEGIN:VALARM
TRIGGER:PT18H
ACTION:DISPLAY
DESCRIPTION:Reminder
END:VALARM
END:VEVENT
END:VCALENDAR