BEGIN:VCALENDAR
PRODID:-//hacksw/handcal//NONSGML v1.0//EN
VERSION:2.0
METHOD:PUBLISH
BEGIN:VEVENT
DTSTART:20150211T163000Z
DTEND:20150211T184500Z
LOCATION:SEASONS - Washington Township, NJ
UID:1079320150211T163000ZHeckerling Review - A Review of 2015 Heckerling Institute on Estate Planning / University of Miami Law School
DTSTAMP:20260421T155125Z
DESCRIPTION:\nPlease note registration begins at 11:30 am and the meeting will start promptly with lunch at 11:45 am.\n \nRSVP TO THIS EVENT:  http://gnjepcfebruary2015.eventbrite.com\n \n\n Continuing Education:\n \nNJ CPE: 2.0 Credits\n \nCFP: 2.0 Credits (Program Name: Review of 2015 Heckerling Institute Conference on Estate Planning\nProgram ID: 201280)\n \nNJ CLE: 2.0 Credits A REVIEW OF THE 2015 HECKERLING INSTITUTE ON ESTATE PLANNING (Course #50) This program had been approved by the Board on Continuing Legal Education of the Supreme Court of New Jersey for 2.0  hours of total CLE credit. Of these, 0.00 qualify as hours of credit for ethics/professionalism, and 0.00 qualify as hours of credit toward certification in civil trial law, criminal trial law, workers compensation law, municipal court law, and/or matrimonial law. \n \n \n \nNJ Insurance: 88896291 A Heckerling Review - A Review of 2015 Heckerling Institute on Estate Planning (General) \n
SUMMARY:Heckerling Review - A Review of 2015 Heckerling Institute on Estate Planning / University of Miami Law School - Greater New Jersey Estate Planning Council 
PRIORITY:3
BEGIN:VALARM
TRIGGER:PT18H
ACTION:DISPLAY
DESCRIPTION:Reminder
END:VALARM
END:VEVENT
END:VCALENDAR