BEGIN:VCALENDAR
PRODID:-//hacksw/handcal//NONSGML v1.0//EN
VERSION:2.0
METHOD:PUBLISH
BEGIN:VEVENT
DTSTART:20141210T163000Z
DTEND:20141210T184500Z
LOCATION:Bacari Grill, Washington Township, New Jersey
UID:1079220141210T163000ZBusiness Succession Planning and Buy/Sell Agreements
DTSTAMP:20260421T154349Z
DESCRIPTION:\n \n \nRSVP to this event: (Guests $75 and includes luncheon)\n \nhttp://gnjepcdecember2014.eventbrite.com\n \n \n \nPlease note registration begins at 11:30 am and the meeting will start promptly with lunch at 11:45 am.\n \n \n \nCE:\n \nNJ CPE: 2.0 credits\n \nCFP: 2.0 credits, Program Name: Business Succession Planning and Buy-Sell Agreements Program ID: 196643\n \nNJ Insurance: 2.0 credits Course #88896052 Business Succession Planning and Buy Sell Agreements\n \nNJ CLE 2.0  “This program had been approved by the Board on Continuing Legal Education of the Supreme Court of New Jersey for 2.0 hours of total CLE credit. Of these, 0 qualify as hours of credit for ethics/professionalism, and 0 qualify as hours of credit toward certification in civil trial law, criminal trial law, workers compensation law, municipal court law, and/or matrimonial law. Course title: ”Business Succession Planning and Buy-Sell Agreements (#43)\n \n \n
SUMMARY:Business Succession Planning and Buy/Sell Agreements - Greater New Jersey Estate Planning Council 
PRIORITY:3
BEGIN:VALARM
TRIGGER:PT18H
ACTION:DISPLAY
DESCRIPTION:Reminder
END:VALARM
END:VEVENT
END:VCALENDAR