BEGIN:VCALENDAR
PRODID:-//hacksw/handcal//NONSGML v1.0//EN
VERSION:2.0
METHOD:PUBLISH
BEGIN:VEVENT
DTSTART:20141112T163000Z
DTEND:20141112T184500Z
LOCATION:SEASONS - Washington Township, NJ
UID:1079120141112T163000ZRetirement/Distribution Planning and Roth IRA's for 2014, 2015 and Beyond
DTSTAMP:20260421T154955Z
DESCRIPTION:\nRSVP TO THIS EVENT: GUESTS $75 WHICH INCLUDES THE LUNCHEON\n \nhttp://gnjepcnovember2014.eventbrite.com\n \n \n \nMeeting Location:  SEASONS, Washington Twp, NJ\n \nMeeting registration with begin at 11:30 AM\n \nLunch will be available at 11:45 AM\n \nThe formal presentation will end at 1:45 PM\n \nNJ CPE: 2.0 credits\n \nNJ CLE: 2.0 credits Retirement / Distribution Planning and Roth IRAS\n \nThis program had been approved by the Board on Continuing Legal Education of the Supreme Court of New Jersey for 2.0  hours of total CLE credit. Of these, 0.00 qualify as hours of credit for ethics/professionalism, and 0.00 qualify as hours of credit toward certification in civil trial law, criminal trial law, workers compensation law, municipal court law, and/or matrimonial law. \n \nNJ INS: 2.0 credits Course #88895966 Retirement/Distributions - Planning and Roth IRA'S for 2014, 2015 and Beyond\n \nCFP: 2.0 credits Program Name: Retirement/Distribution Planning and Roth IRAs for 2014 & Beyond\nProgram ID: 195781\n
SUMMARY:Retirement/Distribution Planning and Roth IRA's for 2014, 2015 and Beyond - Greater New Jersey Estate Planning Council 
PRIORITY:3
BEGIN:VALARM
TRIGGER:PT18H
ACTION:DISPLAY
DESCRIPTION:Reminder
END:VALARM
END:VEVENT
END:VCALENDAR