BEGIN:VCALENDAR
PRODID:-//hacksw/handcal//NONSGML v1.0//EN
VERSION:2.0
METHOD:PUBLISH
BEGIN:VEVENT
DTSTART:20141023T113000Z
DTEND:20141023T160000Z
LOCATION:Saddle Brook Marriott
UID:1079020141023T113000ZEstate Planners Day 2014 - Estate Planning Council of Bergen County, Inc
DTSTAMP:20260421T154853Z
DESCRIPTION:
SUMMARY:Estate Planners Day 2014 - Estate Planning Council of Bergen County, Inc - Greater New Jersey Estate Planning Council 
PRIORITY:3
BEGIN:VALARM
TRIGGER:PT18H
ACTION:DISPLAY
DESCRIPTION:Reminder
END:VALARM
END:VEVENT
END:VCALENDAR