BEGIN:VCALENDAR
PRODID:-//hacksw/handcal//NONSGML v1.0//EN
VERSION:2.0
METHOD:PUBLISH
BEGIN:VEVENT
DTSTART:20141008T154500Z
DTEND:20141008T174500Z
LOCATION:Bacari Grill, Washington Township, New Jersey
UID:1078920141008T154500ZThe "First Asset Protection" Every Client Must Do…Property/Casualty Insurance for the High Net-Worth, Affluent Estate Planning Client
DTSTAMP:20260421T154906Z
DESCRIPTION:\n \n \nRSVP to this event:  http://gnjepcoctober2014.eventbrite.com \nDocuments for this presentation have been distributed to registered attendees  \n  \nContinuing Education: \n  \n \nNJ Insurance: 2.0 credits Course #88895832 The First Asset Protection - Every Client Must Do...\n \nNJ CPE: 2.0 credits Risk Management for the High Net Worth/Affluent Estate Planning Client\n \nCFP: 2.0 credits Program Name: The "First Asset Protection" Every Client Must Do  Program ID: 10082014\n \nNJ CLE: 2.0 Risk Management for the High Net Worth Estate Planning Client \n \nThis program had been approved by the Board on Continuing Legal Education of the Supreme Court of New Jersey for 2.0  hours of total CLE credit. Of these, 0.00 qualify as hours of credit for ethics/professionalism, and 0.00 qualify as hours of credit toward certification in civil trial law, criminal trial law, workers compensation law, municipal court law, and/or matrimonial law.  \n 
SUMMARY:The "First Asset Protection" Every Client Must Do…Property/Casualty Insurance for the High Net-Worth, Affluent Estate Planning Client - Greater New Jersey Estate Planning Council 
PRIORITY:3
BEGIN:VALARM
TRIGGER:PT18H
ACTION:DISPLAY
DESCRIPTION:Reminder
END:VALARM
END:VEVENT
END:VCALENDAR