BEGIN:VCALENDAR
PRODID:-//hacksw/handcal//NONSGML v1.0//EN
VERSION:2.0
METHOD:PUBLISH
BEGIN:VEVENT
DTSTART:20140910T154500Z
DTEND:20140910T174500Z
LOCATION:Bacari Grill, Washington Township, New Jersey
UID:1078820140910T154500ZA Capital Markets and Economic Outlook… What Lies Ahead for the Capital Markets and the Economy, for 2015 and Beyond
DTSTAMP:20260421T155127Z
DESCRIPTION:\nRSVP to this event: (Guest fee $75 which includes luncheon)\n \nhttp://gnjepcseptember2014.eventbrite.com\n \n \n \nContinuing Education:\n \nNJ Insurance: 2.0 credits Course #88895648 A Capital Markets and Financial, Retirement and Economic Overview\n \nNJ CPE: 2.0 credits\n \nCFP: A Capital Markets & Financial, Retirement, & Economic Overview\nProgram ID: 09102014\n \nNJ CLE: CAPITAL MARKETS AND ECONOMIC OUTLOOK, WHAT LIES AHEAD FOR THE ECONOMY\n
SUMMARY:A Capital Markets and Economic Outlook… What Lies Ahead for the Capital Markets and the Economy, for 2015 and Beyond - Greater New Jersey Estate Planning Council 
PRIORITY:3
BEGIN:VALARM
TRIGGER:PT18H
ACTION:DISPLAY
DESCRIPTION:Reminder
END:VALARM
END:VEVENT
END:VCALENDAR