BEGIN:VCALENDAR
PRODID:-//hacksw/handcal//NONSGML v1.0//EN
VERSION:2.0
METHOD:PUBLISH
BEGIN:VEVENT
DTSTART:20150121T163000Z
DTEND:20150121T184500Z
LOCATION:Bacari Grill, Washington Township, New Jersey
UID:1078720150121T163000ZCharitable Lead Trusts -- The Most Overlooked, and Most Powerful Gift & Estate Planning Technique
DTSTAMP:20260421T154547Z
DESCRIPTION:\nPlease note registration begins at 11:30 am and the meeting will start promptly with lunch at 11:45 am.\n \n \n \n \n \nRSVP TO THIS EVENT:   [www.gnjepcjanuary2015.eventbrite.com](http://gnjepcjanuary2015.eventbrite.com)\n \n \n \nNJ CPE: 2.0 credits  Charitable Lead Trusts – The Most Overlooked and Most Powerful Gift and Estate Planning Technique\n \nCFP : 2.0 credits Program Name: Charitable Gift Planning Utilizing a Charitable Lead Annuity Trust\nProgram ID: 199850\n \nNJ CLE: 2. 0 credits CHARITABLE LEAD TRUSTS -- THE MOST OVERLOOKED, AND MOST POWERFUL GIFT & ESTATE PLANNING TECHNIQUE (#49)\n \nThis program had been approved by the Board on Continuing Legal Education of the Supreme Court of New Jersey for 2.0  hours of total CLE credit. Of these, 0.00 qualify as hours of credit for ethics/professionalism, and 0.00 qualify as hours of credit toward certification in civil trial law, criminal trial law, workers compensation law, municipal court law, and/or matrimonial law. \n \nNJ Insurance - 2.0 Credits (L) #88896202 Charitable Gift Planning Utilizing a Charitable Lead Annunity Trust\n
SUMMARY:Charitable Lead Trusts -- The Most Overlooked, and Most Powerful Gift & Estate Planning Technique - Greater New Jersey Estate Planning Council 
PRIORITY:3
BEGIN:VALARM
TRIGGER:PT18H
ACTION:DISPLAY
DESCRIPTION:Reminder
END:VALARM
END:VEVENT
END:VCALENDAR